BEGIN:VCALENDAR
VERSION:2.0
PRODID:-//SWANTON PUBLIC LIBRARY - ECPv6.15.11//NONSGML v1.0//EN
CALSCALE:GREGORIAN
METHOD:PUBLISH
X-ORIGINAL-URL:https://swantonlibrary.org
X-WR-CALDESC:Events for SWANTON PUBLIC LIBRARY
REFRESH-INTERVAL;VALUE=DURATION:PT1H
X-Robots-Tag:noindex
X-PUBLISHED-TTL:PT1H
BEGIN:VTIMEZONE
TZID:America/New_York
BEGIN:DAYLIGHT
TZOFFSETFROM:-0500
TZOFFSETTO:-0400
TZNAME:EDT
DTSTART:20250309T070000
END:DAYLIGHT
BEGIN:STANDARD
TZOFFSETFROM:-0400
TZOFFSETTO:-0500
TZNAME:EST
DTSTART:20251102T060000
END:STANDARD
BEGIN:DAYLIGHT
TZOFFSETFROM:-0500
TZOFFSETTO:-0400
TZNAME:EDT
DTSTART:20260308T070000
END:DAYLIGHT
BEGIN:STANDARD
TZOFFSETFROM:-0400
TZOFFSETTO:-0500
TZNAME:EST
DTSTART:20261101T060000
END:STANDARD
BEGIN:DAYLIGHT
TZOFFSETFROM:-0500
TZOFFSETTO:-0400
TZNAME:EDT
DTSTART:20270314T070000
END:DAYLIGHT
BEGIN:STANDARD
TZOFFSETFROM:-0400
TZOFFSETTO:-0500
TZNAME:EST
DTSTART:20271107T060000
END:STANDARD
END:VTIMEZONE
BEGIN:VEVENT
DTSTART;TZID=America/New_York:20260401T103000
DTEND;TZID=America/New_York:20260401T113000
DTSTAMP:20260423T161320
CREATED:20260306T164316Z
LAST-MODIFIED:20260306T164319Z
UID:18519-1775039400-1775043000@swantonlibrary.org
SUMMARY:Toddler Time Play Group
DESCRIPTION:Toddlers and their caregivers gather for an interactive social hour
URL:https://swantonlibrary.org/event/toddler-time-play-group-12/
CATEGORIES:Youth Programs
ATTACH;FMTTYPE=image/jpeg:https://swantonlibrary.org/wp-content/uploads/2025/06/Toddler-Story-Time-Play-Group-2.jpg
END:VEVENT
BEGIN:VEVENT
DTSTART;TZID=America/New_York:20260403T110000
DTEND;TZID=America/New_York:20260403T120000
DTSTAMP:20260423T161320
CREATED:20260306T160641Z
LAST-MODIFIED:20260306T160644Z
UID:18487-1775214000-1775217600@swantonlibrary.org
SUMMARY:Bone Builders
DESCRIPTION:An exercise program designed to prevent and reverse the negative effects of osteoporosis
URL:https://swantonlibrary.org/event/bone-builders-25/
CATEGORIES:Adult Programs,Community Events
ATTACH;FMTTYPE=image/png:https://swantonlibrary.org/wp-content/uploads/2025/02/Bone-Builders-is-an-exercise-program-designed-to-prevent-and-even-reverse-the-negative-effects-of-osteoporosis.-2.png
END:VEVENT
BEGIN:VEVENT
DTSTART;TZID=America/New_York:20260403T130000
DTEND;TZID=America/New_York:20260403T140000
DTSTAMP:20260423T161320
CREATED:20260306T161700Z
LAST-MODIFIED:20260306T161704Z
UID:18495-1775221200-1775224800@swantonlibrary.org
SUMMARY:Interactive Story Time
DESCRIPTION:Join us for a hands-on story hour!
URL:https://swantonlibrary.org/event/interactive-story-time-15/
CATEGORIES:Youth Programs
ATTACH;FMTTYPE=image/jpeg:https://swantonlibrary.org/wp-content/uploads/2025/06/Interactive-Story-Time-1-3.jpg
END:VEVENT
BEGIN:VEVENT
DTSTART;TZID=America/New_York:20260404T103000
DTEND;TZID=America/New_York:20260404T113000
DTSTAMP:20260423T161320
CREATED:20260306T163409Z
LAST-MODIFIED:20260306T163413Z
UID:18511-1775298600-1775302200@swantonlibrary.org
SUMMARY:Story Time
DESCRIPTION:Join us for a story and related craft!
URL:https://swantonlibrary.org/event/story-time-13/
CATEGORIES:Youth Programs
ATTACH;FMTTYPE=image/jpeg:https://swantonlibrary.org/wp-content/uploads/2025/02/sat-story-time.jpg
END:VEVENT
BEGIN:VEVENT
DTSTART;TZID=America/New_York:20260406T110000
DTEND;TZID=America/New_York:20260406T120000
DTSTAMP:20260423T161320
CREATED:20260306T160010Z
LAST-MODIFIED:20260306T172903Z
UID:18479-1775473200-1775476800@swantonlibrary.org
SUMMARY:Bone Builders
DESCRIPTION:An exercise program designed to prevent and reverse the negative effects of osteoporosis
URL:https://swantonlibrary.org/event/bone-builders-29/
CATEGORIES:Adult Programs,Community Events
ATTACH;FMTTYPE=image/png:https://swantonlibrary.org/wp-content/uploads/2025/02/Bone-Builders-is-an-exercise-program-designed-to-prevent-and-even-reverse-the-negative-effects-of-osteoporosis.-2.png
END:VEVENT
BEGIN:VEVENT
DTSTART;TZID=America/New_York:20260406T130000
DTEND;TZID=America/New_York:20260406T150000
DTSTAMP:20260423T161320
CREATED:20260306T162530Z
LAST-MODIFIED:20260306T162534Z
UID:18503-1775480400-1775487600@swantonlibrary.org
SUMMARY:Knitting Circle
DESCRIPTION:Join Barb Sargent in all things knitting!
URL:https://swantonlibrary.org/event/knitting-circle-9/
CATEGORIES:Adult Programs
ATTACH;FMTTYPE=image/png:https://swantonlibrary.org/wp-content/uploads/2026/02/knitting-Circle-1-1.png
END:VEVENT
BEGIN:VEVENT
DTSTART;TZID=America/New_York:20260408T103000
DTEND;TZID=America/New_York:20260408T113000
DTSTAMP:20260423T161320
CREATED:20260306T164524Z
LAST-MODIFIED:20260306T164528Z
UID:18521-1775644200-1775647800@swantonlibrary.org
SUMMARY:Toddler Time Play Group
DESCRIPTION:Toddlers and their caregivers gather for an interactive social hour
URL:https://swantonlibrary.org/event/toddler-time-play-group-13/
CATEGORIES:Youth Programs
ATTACH;FMTTYPE=image/jpeg:https://swantonlibrary.org/wp-content/uploads/2025/06/Toddler-Story-Time-Play-Group-2.jpg
END:VEVENT
BEGIN:VEVENT
DTSTART;TZID=America/New_York:20260409T140000
DTEND;TZID=America/New_York:20260409T160000
DTSTAMP:20260423T161320
CREATED:20260306T154656Z
LAST-MODIFIED:20260401T162422Z
UID:18473-1775743200-1775750400@swantonlibrary.org
SUMMARY:Card Making with Barb!
DESCRIPTION:Register here. For adults only. All supplies provided. Registration required.
URL:https://swantonlibrary.org/event/card-making-with-barb/
CATEGORIES:Adult Programs
ATTACH;FMTTYPE=image/png:https://swantonlibrary.org/wp-content/uploads/2026/03/Card-making-With-Barb-April-2026-1.png
END:VEVENT
BEGIN:VEVENT
DTSTART;TZID=America/New_York:20260410T093000
DTEND;TZID=America/New_York:20260410T103000
DTSTAMP:20260423T161320
CREATED:20260228T175049Z
LAST-MODIFIED:20260228T175052Z
UID:18401-1775813400-1775817000@swantonlibrary.org
SUMMARY:Baby & Me Yoga
DESCRIPTION:Screenshot\n\n\n\n\n\n\n\nPostpartum-friendly parent and baby yoga class!
URL:https://swantonlibrary.org/event/baby-me-yoga-7/
CATEGORIES:Community Events
ATTACH;FMTTYPE=image/jpeg:https://swantonlibrary.org/wp-content/uploads/2026/02/IMG_2910.jpeg
END:VEVENT
BEGIN:VEVENT
DTSTART;TZID=America/New_York:20260410T110000
DTEND;TZID=America/New_York:20260410T120000
DTSTAMP:20260423T161320
CREATED:20260306T160831Z
LAST-MODIFIED:20260306T160834Z
UID:18489-1775818800-1775822400@swantonlibrary.org
SUMMARY:Bone Builders
DESCRIPTION:An exercise program designed to prevent and reverse the negative effects of osteoporosis
URL:https://swantonlibrary.org/event/bone-builders-26/
CATEGORIES:Adult Programs,Community Events
ATTACH;FMTTYPE=image/png:https://swantonlibrary.org/wp-content/uploads/2025/02/Bone-Builders-is-an-exercise-program-designed-to-prevent-and-even-reverse-the-negative-effects-of-osteoporosis.-2.png
END:VEVENT
BEGIN:VEVENT
DTSTART;TZID=America/New_York:20260410T130000
DTEND;TZID=America/New_York:20260410T140000
DTSTAMP:20260423T161320
CREATED:20260306T161846Z
LAST-MODIFIED:20260306T161850Z
UID:18497-1775826000-1775829600@swantonlibrary.org
SUMMARY:Interactive Story Time
DESCRIPTION:Join us for a hands-on story hour!
URL:https://swantonlibrary.org/event/interactive-story-time-16/
CATEGORIES:Youth Programs
ATTACH;FMTTYPE=image/jpeg:https://swantonlibrary.org/wp-content/uploads/2025/06/Interactive-Story-Time-1-3.jpg
END:VEVENT
BEGIN:VEVENT
DTSTART;TZID=America/New_York:20260411T103000
DTEND;TZID=America/New_York:20260411T113000
DTSTAMP:20260423T161320
CREATED:20260306T163536Z
LAST-MODIFIED:20260306T163540Z
UID:18513-1775903400-1775907000@swantonlibrary.org
SUMMARY:Story Time
DESCRIPTION:Join us for a story and related craft!
URL:https://swantonlibrary.org/event/story-time-14/
CATEGORIES:Youth Programs
ATTACH;FMTTYPE=image/jpeg:https://swantonlibrary.org/wp-content/uploads/2025/02/sat-story-time.jpg
END:VEVENT
BEGIN:VEVENT
DTSTART;TZID=America/New_York:20260413T110000
DTEND;TZID=America/New_York:20260413T120000
DTSTAMP:20260423T161320
CREATED:20260306T160207Z
LAST-MODIFIED:20260306T160210Z
UID:18481-1776078000-1776081600@swantonlibrary.org
SUMMARY:Bone Builders
DESCRIPTION:An exercise program designed to prevent and reverse the negative effects of osteoporosis
URL:https://swantonlibrary.org/event/bone-builders-22/
CATEGORIES:Adult Programs,Community Events
ATTACH;FMTTYPE=image/png:https://swantonlibrary.org/wp-content/uploads/2025/02/Bone-Builders-is-an-exercise-program-designed-to-prevent-and-even-reverse-the-negative-effects-of-osteoporosis.-2.png
END:VEVENT
BEGIN:VEVENT
DTSTART;TZID=America/New_York:20260413T130000
DTEND;TZID=America/New_York:20260413T150000
DTSTAMP:20260423T161320
CREATED:20260306T162659Z
LAST-MODIFIED:20260306T162703Z
UID:18505-1776085200-1776092400@swantonlibrary.org
SUMMARY:Knitting Circle
DESCRIPTION:Join Barb Sargent in all things knitting!
URL:https://swantonlibrary.org/event/knitting-circle-10/
CATEGORIES:Adult Programs
ATTACH;FMTTYPE=image/png:https://swantonlibrary.org/wp-content/uploads/2026/02/knitting-Circle-1-1.png
END:VEVENT
BEGIN:VEVENT
DTSTART;TZID=America/New_York:20260414T130000
DTEND;TZID=America/New_York:20260414T150000
DTSTAMP:20260423T161320
CREATED:20260306T152715Z
LAST-MODIFIED:20260401T162314Z
UID:18460-1776171600-1776178800@swantonlibrary.org
SUMMARY:Barn Quilting with Marie
DESCRIPTION:Register here. Registration Required. Join local artist Marie Speer to create your very own barn quilt painting!
URL:https://swantonlibrary.org/event/barn-quilting-with-marie/
CATEGORIES:Community Events
ATTACH;FMTTYPE=image/png:https://swantonlibrary.org/wp-content/uploads/2026/03/Barn-quilt-class-1.png
END:VEVENT
BEGIN:VEVENT
DTSTART;TZID=America/New_York:20260415T103000
DTEND;TZID=America/New_York:20260415T113000
DTSTAMP:20260423T161320
CREATED:20260306T164703Z
LAST-MODIFIED:20260306T164706Z
UID:18523-1776249000-1776252600@swantonlibrary.org
SUMMARY:Toddler Time Play Group
DESCRIPTION:Toddlers and their caregivers gather for an interactive social hour
URL:https://swantonlibrary.org/event/toddler-time-play-group-14/
CATEGORIES:Youth Programs
ATTACH;FMTTYPE=image/jpeg:https://swantonlibrary.org/wp-content/uploads/2025/06/Toddler-Story-Time-Play-Group-2.jpg
END:VEVENT
BEGIN:VEVENT
DTSTART;TZID=America/New_York:20260416T180000
DTEND;TZID=America/New_York:20260416T193000
DTSTAMP:20260423T161320
CREATED:20260306T152117Z
LAST-MODIFIED:20260306T152122Z
UID:18457-1776362400-1776367800@swantonlibrary.org
SUMMARY:Writers' Group
DESCRIPTION:Led by local author\, Rebecca Rupp. For writers and would-be writers; all are welcome!
URL:https://swantonlibrary.org/event/writers-group-2/
CATEGORIES:Community Events
ATTACH;FMTTYPE=image/png:https://swantonlibrary.org/wp-content/uploads/2026/03/Writers-Group-APR-2026-1.png
END:VEVENT
BEGIN:VEVENT
DTSTART;TZID=America/New_York:20260417T110000
DTEND;TZID=America/New_York:20260417T120000
DTSTAMP:20260423T161320
CREATED:20260306T161026Z
LAST-MODIFIED:20260306T161029Z
UID:18491-1776423600-1776427200@swantonlibrary.org
SUMMARY:Bone Builders
DESCRIPTION:An exercise program designed to prevent and reverse the negative effects of osteoporosis
URL:https://swantonlibrary.org/event/bone-builders-27/
CATEGORIES:Adult Programs,Community Events
ATTACH;FMTTYPE=image/png:https://swantonlibrary.org/wp-content/uploads/2025/02/Bone-Builders-is-an-exercise-program-designed-to-prevent-and-even-reverse-the-negative-effects-of-osteoporosis.-2.png
END:VEVENT
BEGIN:VEVENT
DTSTART;TZID=America/New_York:20260417T130000
DTEND;TZID=America/New_York:20260417T140000
DTSTAMP:20260423T161320
CREATED:20260306T162024Z
LAST-MODIFIED:20260306T162028Z
UID:18499-1776430800-1776434400@swantonlibrary.org
SUMMARY:Interactive Story Time
DESCRIPTION:Join us for a hands-on story hour!
URL:https://swantonlibrary.org/event/interactive-story-time-17/
CATEGORIES:Youth Programs
ATTACH;FMTTYPE=image/jpeg:https://swantonlibrary.org/wp-content/uploads/2025/06/Interactive-Story-Time-1-3.jpg
END:VEVENT
BEGIN:VEVENT
DTSTART;TZID=America/New_York:20260417T153000
DTEND;TZID=America/New_York:20260417T170000
DTSTAMP:20260423T161320
CREATED:20260410T154321Z
LAST-MODIFIED:20260410T154324Z
UID:18609-1776439800-1776445200@swantonlibrary.org
SUMMARY:Teen Barn Quilting
DESCRIPTION:Register here. Registration Required. Teens join us in a class about Barn Quilting!
URL:https://swantonlibrary.org/event/teen-barn-quilting/
CATEGORIES:Teen Program
ATTACH;FMTTYPE=image/png:https://swantonlibrary.org/wp-content/uploads/2026/04/TEEN-Barn-quilt-class.png
END:VEVENT
BEGIN:VEVENT
DTSTART;TZID=America/New_York:20260417T180000
DTEND;TZID=America/New_York:20260417T200000
DTSTAMP:20260423T161320
CREATED:20260410T160700Z
LAST-MODIFIED:20260410T160704Z
UID:18612-1776448800-1776456000@swantonlibrary.org
SUMMARY:Teen Night!
DESCRIPTION:Join us for pizza and games!
URL:https://swantonlibrary.org/event/teen-night-2/
CATEGORIES:Teen Program
ATTACH;FMTTYPE=image/png:https://swantonlibrary.org/wp-content/uploads/2026/04/Teen-Night.png
END:VEVENT
BEGIN:VEVENT
DTSTART;TZID=America/New_York:20260418T090000
DTEND;TZID=America/New_York:20260418T190000
DTSTAMP:20260423T161320
CREATED:20260401T153503Z
LAST-MODIFIED:20260418T144306Z
UID:18571-1776502800-1776538800@swantonlibrary.org
SUMMARY:Swanton Academy
DESCRIPTION:What is Swanton Academy? A weekend of neighbors teaching neighbors made possible with funds from The Vermont Humanities Council\, The New Hampshire Humanities Council\, and The Smithsonian Museum. This is the first of several weekends dedicated to community knowledge sharing and will lead up to The Museum on Main Street visiting museum installation on display at the library from mid-September to mid-October. For more information about Museum on Main Street\, click here.  \n\n\n\nMore Swanton Academy dates: June 26- 27\, August 14-16\, November 13-15. Interested in sharing a skill at the next Swanton Academy weekend? CLICK HERE \n\n\n\n9 AM- 12 PM Repair Cafe  \n\n\n\nVermonters have long subscribed to a “waste not\, want not” mentality. Let’s get social with it! Attend this repair cafe pop-up to learn new skills and help keep stuff out of the waste stream. Repair cafés are free events where community members team up with experts to fix their own possessions. Bring one defunct or damaged item with you. Expect to stay with your item as you watch and learn. (Example items: clocks\, blenders\, bikes\, lamps\, pants\, benches\, baskets\, vases\, knives\, toasters\, mugs\, radios) \n\n\n\n10:30 Cheese making (for families)\, no need to register  \n\n\n\nJoin Miss Virginia in the children’s room to learn about how cheese is made and have a try at making some for yourself! Miss Virginia will bring cheese-making to life through stories\, costumes\, and hands-on experience! For ages 3+ \n\n\n\n10:30 Make a nature journal with Mr.K!  \n\n\n\nJoin local nature extraordinaire\, Kurt Valenta\, to learn how and why to make a nature journal to take with you on your next adventure! For ages 6+ \n\n\n\n1 PM Opening of the Upcycled Art Show \n\n\n\nKick off another fun art show at the library with refreshments and incredible art! For all ages. \n\n\n\n2:30 Sourdough Bread (Class is full) \n\n\n\nJoin Barb as you learn all you need to know to make sourdough bread. All participants will receive a starter and a few tools to make their sourdough journey great! For ages 18+ \n\n\n\n2:30 Clothes Mending (link to register) \n\n\n\nHoly cow! Holy mackerel! Holey… pants? Join seamstress Lizzie Seiple for a crash course on visible mending techniques\, from the swirly stitches of sashiko to peekaboo patches. Bring one textile with you that needs a little TLC. Sewing supplies will be provided\, though you’re welcome to bring any fabric scraps or thread you’d like to use. Sponsored by Swanton Arts Council and NWSWD. For ages 18+ \n\n\n\n5:30 Genealogy (Link To Register) \n\n\n\nHave you ever wondered about the people you come from? Join Suzie to learn the basics to get you started on your genealogy journey! All participants must bring their own device to do research on. For ages 18+ \n\n\n\n5:30 Beekeeping and local honey tasting  (no registration needed) \n\n\n\nJoin local bee expert Bianca for a lesson on small-scale honey farming\, a honey tasting\, and also how to help bees if you don’t want to keep them!  \n\n\n\n 5:30 Composting (no registration needed) \n\n\n\nJoin NWSWD’s Mikhala Kaseweter for an intro to composting class. We will review popular backyard composting setups (e.g.\, bins\, tumblers)\, then dip our toes into soil science and microbiology to help us understand why composting works. This fundamentals workshop is designed for beginners\, but seasoned composters are also welcome to attend and ask questions. Note: It will be indoors\, so it won’t be very dirty or very hands-on. For all ages
URL:https://swantonlibrary.org/event/swanton-academy/
CATEGORIES:Community Events
ATTACH;FMTTYPE=image/png:https://swantonlibrary.org/wp-content/uploads/2026/03/Swanton-Academy.png
END:VEVENT
BEGIN:VEVENT
DTSTART;TZID=America/New_York:20260418T103000
DTEND;TZID=America/New_York:20260418T113000
DTSTAMP:20260423T161320
CREATED:20260306T163711Z
LAST-MODIFIED:20260306T163715Z
UID:18515-1776508200-1776511800@swantonlibrary.org
SUMMARY:Story Time
DESCRIPTION:Join us for a story and related craft!
URL:https://swantonlibrary.org/event/story-time-15/
CATEGORIES:Youth Programs
ATTACH;FMTTYPE=image/jpeg:https://swantonlibrary.org/wp-content/uploads/2025/02/sat-story-time.jpg
END:VEVENT
BEGIN:VEVENT
DTSTART;TZID=America/New_York:20260418T120000
DTEND;TZID=America/New_York:20260418T140000
DTSTAMP:20260423T161320
CREATED:20260306T153829Z
LAST-MODIFIED:20260306T153834Z
UID:18466-1776513600-1776520800@swantonlibrary.org
SUMMARY:Upcycled Art Show
DESCRIPTION:Celebrating upcycled art. To submit a piece\, bring into the library and email director@swantonlibrary.org . All art must be submitted by April 15th at 6pm. Opening reception will be April 18\, and show will run until May 30th.
URL:https://swantonlibrary.org/event/upcycled-art-show/
CATEGORIES:All Ages
ATTACH;FMTTYPE=image/png:https://swantonlibrary.org/wp-content/uploads/2026/03/Upcycled-Art-Show-1-1.png
END:VEVENT
BEGIN:VEVENT
DTSTART;TZID=America/New_York:20260419T003000
DTEND;TZID=America/New_York:20260419T193000
DTSTAMP:20260423T161320
CREATED:20260401T153711Z
LAST-MODIFIED:20260418T143943Z
UID:18575-1776558600-1776627000@swantonlibrary.org
SUMMARY:Swanton Academy
DESCRIPTION:What is Swanton Academy? A weekend of neighbors teaching neighbors made possible with funds from The Vermont Humanities Council\, The New Hampshire Humanities Council\, and The Smithsonian Museum. \nThis is the first of several weekends dedicated to community knowledge sharing and will lead up to The Museum on Main Street visiting museum installation on display at the library from mid-September to mid-October. For more information about Museum on Main Street\, click here. \nMore Swanton Academy dates: June 26- 27\, August 14-16\, November 13-15 \nInterested in sharing a skill at the next Swanton Academy weekend? CLICK HERE \n12:30 Intro to Embroidery (This class is full.) \n\n2:30 Crochet (This class is full.) \n\n2:30 Bird House making (Link to register)
URL:https://swantonlibrary.org/event/swanton-academy-2/
CATEGORIES:Community Events
ATTACH;FMTTYPE=image/png:https://swantonlibrary.org/wp-content/uploads/2026/03/Swanton-Academy.png
END:VEVENT
BEGIN:VEVENT
DTSTART;TZID=America/New_York:20260420T080000
DTEND;TZID=America/New_York:20260424T150000
DTSTAMP:20260423T161320
CREATED:20260120T180232Z
LAST-MODIFIED:20260120T180235Z
UID:18217-1776672000-1777042800@swantonlibrary.org
SUMMARY:MARVELOUS MAGICAL CREATURES CAMP
DESCRIPTION:Link to register
URL:https://swantonlibrary.org/event/marvelous-magical-creatures-camp/
ATTACH;FMTTYPE=image/png:https://swantonlibrary.org/wp-content/uploads/2026/01/MARVELOUS-MAGICAL-CREATURES-CAMP-2026.png
END:VEVENT
BEGIN:VEVENT
DTSTART;TZID=America/New_York:20260420T110000
DTEND;TZID=America/New_York:20260420T120000
DTSTAMP:20260423T161320
CREATED:20260306T160349Z
LAST-MODIFIED:20260306T160352Z
UID:18483-1776682800-1776686400@swantonlibrary.org
SUMMARY:Bone Builders
DESCRIPTION:An exercise program designed to prevent and reverse the negative effects of osteoporosis
URL:https://swantonlibrary.org/event/bone-builders-23/
CATEGORIES:Adult Programs,Community Events
ATTACH;FMTTYPE=image/png:https://swantonlibrary.org/wp-content/uploads/2025/02/Bone-Builders-is-an-exercise-program-designed-to-prevent-and-even-reverse-the-negative-effects-of-osteoporosis.-2.png
END:VEVENT
BEGIN:VEVENT
DTSTART;TZID=America/New_York:20260420T130000
DTEND;TZID=America/New_York:20260420T150000
DTSTAMP:20260423T161320
CREATED:20260306T162906Z
LAST-MODIFIED:20260306T162910Z
UID:18507-1776690000-1776697200@swantonlibrary.org
SUMMARY:Knitting Circle
DESCRIPTION:Join Barb Sargent in all things knitting!
URL:https://swantonlibrary.org/event/knitting-circle-11/
CATEGORIES:Adult Programs
ATTACH;FMTTYPE=image/png:https://swantonlibrary.org/wp-content/uploads/2026/02/knitting-Circle-1-1.png
END:VEVENT
BEGIN:VEVENT
DTSTART;TZID=America/New_York:20260420T170000
DTEND;TZID=America/New_York:20260420T180000
DTSTAMP:20260423T161320
CREATED:20260306T154137Z
LAST-MODIFIED:20260306T154140Z
UID:18470-1776704400-1776708000@swantonlibrary.org
SUMMARY:SPL Book Club
DESCRIPTION:This month’s book: The Blue Hour by Paula Hawkins. Email or call to reserve a book.
URL:https://swantonlibrary.org/event/spl-book-club-2/
CATEGORIES:Community Events
ATTACH;FMTTYPE=image/png:https://swantonlibrary.org/wp-content/uploads/2026/03/SPL-APR-2026-1.png
END:VEVENT
BEGIN:VEVENT
DTSTART;TZID=America/New_York:20260421T180000
DTEND;TZID=America/New_York:20260421T190000
DTSTAMP:20260423T161320
CREATED:20260306T155353Z
LAST-MODIFIED:20260306T155357Z
UID:18476-1776794400-1776798000@swantonlibrary.org
SUMMARY:But I Progress Book Club
DESCRIPTION:This month’s book: The Once and Future Witches by Alix E. Harrow. Call or email to reserve your book.
URL:https://swantonlibrary.org/event/but-i-progress-book-club-2/
CATEGORIES:Community Events
ATTACH;FMTTYPE=image/png:https://swantonlibrary.org/wp-content/uploads/2026/03/April-BIP-2026-2.png
END:VEVENT
END:VCALENDAR