BEGIN:VCALENDAR
VERSION:2.0
PRODID:-//SWANTON PUBLIC LIBRARY - ECPv6.15.11//NONSGML v1.0//EN
CALSCALE:GREGORIAN
METHOD:PUBLISH
X-ORIGINAL-URL:https://swantonlibrary.org
X-WR-CALDESC:Events for SWANTON PUBLIC LIBRARY
REFRESH-INTERVAL;VALUE=DURATION:PT1H
X-Robots-Tag:noindex
X-PUBLISHED-TTL:PT1H
BEGIN:VTIMEZONE
TZID:America/New_York
BEGIN:DAYLIGHT
TZOFFSETFROM:-0500
TZOFFSETTO:-0400
TZNAME:EDT
DTSTART:20250309T070000
END:DAYLIGHT
BEGIN:STANDARD
TZOFFSETFROM:-0400
TZOFFSETTO:-0500
TZNAME:EST
DTSTART:20251102T060000
END:STANDARD
BEGIN:DAYLIGHT
TZOFFSETFROM:-0500
TZOFFSETTO:-0400
TZNAME:EDT
DTSTART:20260308T070000
END:DAYLIGHT
BEGIN:STANDARD
TZOFFSETFROM:-0400
TZOFFSETTO:-0500
TZNAME:EST
DTSTART:20261101T060000
END:STANDARD
BEGIN:DAYLIGHT
TZOFFSETFROM:-0500
TZOFFSETTO:-0400
TZNAME:EDT
DTSTART:20270314T070000
END:DAYLIGHT
BEGIN:STANDARD
TZOFFSETFROM:-0400
TZOFFSETTO:-0500
TZNAME:EST
DTSTART:20271107T060000
END:STANDARD
END:VTIMEZONE
BEGIN:VEVENT
DTSTART;TZID=America/New_York:20260803T080000
DTEND;TZID=America/New_York:20260807T150000
DTSTAMP:20260423T135304
CREATED:20260120T172808Z
LAST-MODIFIED:20260120T172812Z
UID:18205-1785744000-1786114800@swantonlibrary.org
SUMMARY:Readers Theater Camp
DESCRIPTION:Link to Register
URL:https://swantonlibrary.org/event/readers-theater-camp-2/
CATEGORIES:Youth Programs
ATTACH;FMTTYPE=image/png:https://swantonlibrary.org/wp-content/uploads/2026/01/Readers-Theater-Camp-August-2026.png
END:VEVENT
BEGIN:VEVENT
DTSTART;TZID=America/New_York:20260814T093000
DTEND;TZID=America/New_York:20260814T103000
DTSTAMP:20260423T135304
CREATED:20260228T180139Z
LAST-MODIFIED:20260228T180142Z
UID:18419-1786699800-1786703400@swantonlibrary.org
SUMMARY:Baby & Me Yoga
DESCRIPTION:Screenshot\n\n\n\n\n\n\n\nPostpartum-friendly parent and baby yoga class!
URL:https://swantonlibrary.org/event/baby-me-yoga-16/
CATEGORIES:Community Events
ATTACH;FMTTYPE=image/jpeg:https://swantonlibrary.org/wp-content/uploads/2026/02/IMG_2910.jpeg
END:VEVENT
BEGIN:VEVENT
DTSTART;TZID=America/New_York:20260817T080000
DTEND;TZID=America/New_York:20260821T150000
DTSTAMP:20260423T135304
CREATED:20260120T173257Z
LAST-MODIFIED:20260120T173302Z
UID:18208-1786953600-1787324400@swantonlibrary.org
SUMMARY:Art Camp!
DESCRIPTION:Link to register
URL:https://swantonlibrary.org/event/art-camp/
CATEGORIES:Youth Programs
ATTACH;FMTTYPE=image/png:https://swantonlibrary.org/wp-content/uploads/2026/01/Art-Camp-2026.png
END:VEVENT
BEGIN:VEVENT
DTSTART;TZID=America/New_York:20260828T093000
DTEND;TZID=America/New_York:20260828T103000
DTSTAMP:20260423T135304
CREATED:20260228T180240Z
LAST-MODIFIED:20260228T180244Z
UID:18421-1787909400-1787913000@swantonlibrary.org
SUMMARY:Baby & Me Yoga
DESCRIPTION:Screenshot\n\n\n\n\n\n\n\nPostpartum-friendly parent and baby yoga class!
URL:https://swantonlibrary.org/event/baby-me-yoga-17/
CATEGORIES:Community Events
ATTACH;FMTTYPE=image/jpeg:https://swantonlibrary.org/wp-content/uploads/2026/02/IMG_2910.jpeg
END:VEVENT
END:VCALENDAR