BEGIN:VCALENDAR
VERSION:2.0
PRODID:-//SWANTON PUBLIC LIBRARY - ECPv6.15.11//NONSGML v1.0//EN
CALSCALE:GREGORIAN
METHOD:PUBLISH
X-WR-CALNAME:SWANTON PUBLIC LIBRARY
X-ORIGINAL-URL:https://swantonlibrary.org
X-WR-CALDESC:Events for SWANTON PUBLIC LIBRARY
REFRESH-INTERVAL;VALUE=DURATION:PT1H
X-Robots-Tag:noindex
X-PUBLISHED-TTL:PT1H
BEGIN:VTIMEZONE
TZID:America/New_York
BEGIN:DAYLIGHT
TZOFFSETFROM:-0500
TZOFFSETTO:-0400
TZNAME:EDT
DTSTART:20250309T070000
END:DAYLIGHT
BEGIN:STANDARD
TZOFFSETFROM:-0400
TZOFFSETTO:-0500
TZNAME:EST
DTSTART:20251102T060000
END:STANDARD
BEGIN:DAYLIGHT
TZOFFSETFROM:-0500
TZOFFSETTO:-0400
TZNAME:EDT
DTSTART:20260308T070000
END:DAYLIGHT
BEGIN:STANDARD
TZOFFSETFROM:-0400
TZOFFSETTO:-0500
TZNAME:EST
DTSTART:20261101T060000
END:STANDARD
BEGIN:DAYLIGHT
TZOFFSETFROM:-0500
TZOFFSETTO:-0400
TZNAME:EDT
DTSTART:20270314T070000
END:DAYLIGHT
BEGIN:STANDARD
TZOFFSETFROM:-0400
TZOFFSETTO:-0500
TZNAME:EST
DTSTART:20271107T060000
END:STANDARD
END:VTIMEZONE
BEGIN:VEVENT
DTSTART;TZID=America/New_York:20260419T003000
DTEND;TZID=America/New_York:20260419T193000
DTSTAMP:20260423T140346
CREATED:20260401T153711Z
LAST-MODIFIED:20260418T143943Z
UID:18575-1776558600-1776627000@swantonlibrary.org
SUMMARY:Swanton Academy
DESCRIPTION:What is Swanton Academy? A weekend of neighbors teaching neighbors made possible with funds from The Vermont Humanities Council\, The New Hampshire Humanities Council\, and The Smithsonian Museum. \nThis is the first of several weekends dedicated to community knowledge sharing and will lead up to The Museum on Main Street visiting museum installation on display at the library from mid-September to mid-October. For more information about Museum on Main Street\, click here. \nMore Swanton Academy dates: June 26- 27\, August 14-16\, November 13-15 \nInterested in sharing a skill at the next Swanton Academy weekend? CLICK HERE \n12:30 Intro to Embroidery (This class is full.) \n\n2:30 Crochet (This class is full.) \n\n2:30 Bird House making (Link to register)
URL:https://swantonlibrary.org/event/swanton-academy-2/
CATEGORIES:Community Events
ATTACH;FMTTYPE=image/png:https://swantonlibrary.org/wp-content/uploads/2026/03/Swanton-Academy.png
END:VEVENT
BEGIN:VEVENT
DTSTART;TZID=America/New_York:20260420T080000
DTEND;TZID=America/New_York:20260424T150000
DTSTAMP:20260423T140346
CREATED:20260120T180232Z
LAST-MODIFIED:20260120T180235Z
UID:18217-1776672000-1777042800@swantonlibrary.org
SUMMARY:MARVELOUS MAGICAL CREATURES CAMP
DESCRIPTION:Link to register
URL:https://swantonlibrary.org/event/marvelous-magical-creatures-camp/
ATTACH;FMTTYPE=image/png:https://swantonlibrary.org/wp-content/uploads/2026/01/MARVELOUS-MAGICAL-CREATURES-CAMP-2026.png
END:VEVENT
BEGIN:VEVENT
DTSTART;TZID=America/New_York:20260420T110000
DTEND;TZID=America/New_York:20260420T120000
DTSTAMP:20260423T140346
CREATED:20260306T160349Z
LAST-MODIFIED:20260306T160352Z
UID:18483-1776682800-1776686400@swantonlibrary.org
SUMMARY:Bone Builders
DESCRIPTION:An exercise program designed to prevent and reverse the negative effects of osteoporosis
URL:https://swantonlibrary.org/event/bone-builders-23/
CATEGORIES:Adult Programs,Community Events
ATTACH;FMTTYPE=image/png:https://swantonlibrary.org/wp-content/uploads/2025/02/Bone-Builders-is-an-exercise-program-designed-to-prevent-and-even-reverse-the-negative-effects-of-osteoporosis.-2.png
END:VEVENT
BEGIN:VEVENT
DTSTART;TZID=America/New_York:20260420T130000
DTEND;TZID=America/New_York:20260420T150000
DTSTAMP:20260423T140346
CREATED:20260306T162906Z
LAST-MODIFIED:20260306T162910Z
UID:18507-1776690000-1776697200@swantonlibrary.org
SUMMARY:Knitting Circle
DESCRIPTION:Join Barb Sargent in all things knitting!
URL:https://swantonlibrary.org/event/knitting-circle-11/
CATEGORIES:Adult Programs
ATTACH;FMTTYPE=image/png:https://swantonlibrary.org/wp-content/uploads/2026/02/knitting-Circle-1-1.png
END:VEVENT
BEGIN:VEVENT
DTSTART;TZID=America/New_York:20260420T170000
DTEND;TZID=America/New_York:20260420T180000
DTSTAMP:20260423T140346
CREATED:20260306T154137Z
LAST-MODIFIED:20260306T154140Z
UID:18470-1776704400-1776708000@swantonlibrary.org
SUMMARY:SPL Book Club
DESCRIPTION:This month’s book: The Blue Hour by Paula Hawkins. Email or call to reserve a book.
URL:https://swantonlibrary.org/event/spl-book-club-2/
CATEGORIES:Community Events
ATTACH;FMTTYPE=image/png:https://swantonlibrary.org/wp-content/uploads/2026/03/SPL-APR-2026-1.png
END:VEVENT
BEGIN:VEVENT
DTSTART;TZID=America/New_York:20260421T180000
DTEND;TZID=America/New_York:20260421T190000
DTSTAMP:20260423T140346
CREATED:20260306T155353Z
LAST-MODIFIED:20260306T155357Z
UID:18476-1776794400-1776798000@swantonlibrary.org
SUMMARY:But I Progress Book Club
DESCRIPTION:This month’s book: The Once and Future Witches by Alix E. Harrow. Call or email to reserve your book.
URL:https://swantonlibrary.org/event/but-i-progress-book-club-2/
CATEGORIES:Community Events
ATTACH;FMTTYPE=image/png:https://swantonlibrary.org/wp-content/uploads/2026/03/April-BIP-2026-2.png
END:VEVENT
BEGIN:VEVENT
DTSTART;TZID=America/New_York:20260422T103000
DTEND;TZID=America/New_York:20260422T113000
DTSTAMP:20260423T140346
CREATED:20260306T164841Z
LAST-MODIFIED:20260306T164844Z
UID:18525-1776853800-1776857400@swantonlibrary.org
SUMMARY:Toddler Time Play Group
DESCRIPTION:Toddlers and their caregivers gather for an interactive social hour
URL:https://swantonlibrary.org/event/toddler-time-play-group-15/
CATEGORIES:Youth Programs
ATTACH;FMTTYPE=image/jpeg:https://swantonlibrary.org/wp-content/uploads/2025/06/Toddler-Story-Time-Play-Group-2.jpg
END:VEVENT
BEGIN:VEVENT
DTSTART;TZID=America/New_York:20260424T093000
DTEND;TZID=America/New_York:20260424T103000
DTSTAMP:20260423T140346
CREATED:20260228T175200Z
LAST-MODIFIED:20260228T175205Z
UID:18403-1777023000-1777026600@swantonlibrary.org
SUMMARY:Baby & Me Yoga
DESCRIPTION:Screenshot\n\n\n\n\n\n\n\nPostpartum-friendly parent and baby yoga class!
URL:https://swantonlibrary.org/event/baby-me-yoga-8/
CATEGORIES:Community Events
ATTACH;FMTTYPE=image/jpeg:https://swantonlibrary.org/wp-content/uploads/2026/02/IMG_2910.jpeg
END:VEVENT
BEGIN:VEVENT
DTSTART;TZID=America/New_York:20260424T110000
DTEND;TZID=America/New_York:20260424T120000
DTSTAMP:20260423T140346
CREATED:20260306T161200Z
LAST-MODIFIED:20260306T161204Z
UID:18493-1777028400-1777032000@swantonlibrary.org
SUMMARY:Bone Builders
DESCRIPTION:An exercise program designed to prevent and reverse the negative effects of osteoporosis
URL:https://swantonlibrary.org/event/bone-builders-28/
CATEGORIES:Adult Programs,Community Events
ATTACH;FMTTYPE=image/png:https://swantonlibrary.org/wp-content/uploads/2025/02/Bone-Builders-is-an-exercise-program-designed-to-prevent-and-even-reverse-the-negative-effects-of-osteoporosis.-2.png
END:VEVENT
BEGIN:VEVENT
DTSTART;TZID=America/New_York:20260424T130000
DTEND;TZID=America/New_York:20260424T140000
DTSTAMP:20260423T140346
CREATED:20260306T162206Z
LAST-MODIFIED:20260306T162209Z
UID:18501-1777035600-1777039200@swantonlibrary.org
SUMMARY:Interactive Story Time
DESCRIPTION:Join us for a hands-on story hour!
URL:https://swantonlibrary.org/event/interactive-story-time-18/
CATEGORIES:Youth Programs
ATTACH;FMTTYPE=image/jpeg:https://swantonlibrary.org/wp-content/uploads/2025/06/Interactive-Story-Time-1-3.jpg
END:VEVENT
BEGIN:VEVENT
DTSTART;TZID=America/New_York:20260425T103000
DTEND;TZID=America/New_York:20260425T113000
DTSTAMP:20260423T140346
CREATED:20260306T163923Z
LAST-MODIFIED:20260306T163926Z
UID:18517-1777113000-1777116600@swantonlibrary.org
SUMMARY:Story Time
DESCRIPTION:Join us for a story and related craft!
URL:https://swantonlibrary.org/event/story-time-17/
CATEGORIES:Youth Programs
ATTACH;FMTTYPE=image/jpeg:https://swantonlibrary.org/wp-content/uploads/2025/02/sat-story-time.jpg
END:VEVENT
BEGIN:VEVENT
DTSTART;TZID=America/New_York:20260427T110000
DTEND;TZID=America/New_York:20260427T120000
DTSTAMP:20260423T140346
CREATED:20260306T160524Z
LAST-MODIFIED:20260306T160527Z
UID:18485-1777287600-1777291200@swantonlibrary.org
SUMMARY:Bone Builders
DESCRIPTION:An exercise program designed to prevent and reverse the negative effects of osteoporosis
URL:https://swantonlibrary.org/event/bone-builders-24/
CATEGORIES:Adult Programs,Community Events
ATTACH;FMTTYPE=image/png:https://swantonlibrary.org/wp-content/uploads/2025/02/Bone-Builders-is-an-exercise-program-designed-to-prevent-and-even-reverse-the-negative-effects-of-osteoporosis.-2.png
END:VEVENT
BEGIN:VEVENT
DTSTART;TZID=America/New_York:20260427T130000
DTEND;TZID=America/New_York:20260427T150000
DTSTAMP:20260423T140346
CREATED:20260306T163054Z
LAST-MODIFIED:20260306T163057Z
UID:18509-1777294800-1777302000@swantonlibrary.org
SUMMARY:Knitting Circle
DESCRIPTION:Join Barb Sargent in all things knitting!
URL:https://swantonlibrary.org/event/knitting-circle-12/
CATEGORIES:Adult Programs
ATTACH;FMTTYPE=image/png:https://swantonlibrary.org/wp-content/uploads/2026/02/knitting-Circle-1-1.png
END:VEVENT
BEGIN:VEVENT
DTSTART;TZID=America/New_York:20260427T173000
DTEND;TZID=America/New_York:20260427T190000
DTSTAMP:20260423T140346
CREATED:20260306T153020Z
LAST-MODIFIED:20260306T153023Z
UID:18463-1777311000-1777316400@swantonlibrary.org
SUMMARY:Junk Journaling
DESCRIPTION:Create or add to a junk/art journal. All supplies provided and no prior knowledge required.
URL:https://swantonlibrary.org/event/junk-journaling-3/
CATEGORIES:Community Events
ATTACH;FMTTYPE=image/png:https://swantonlibrary.org/wp-content/uploads/2026/03/Art-Journaling-1-1.png
END:VEVENT
BEGIN:VEVENT
DTSTART;TZID=America/New_York:20260429T103000
DTEND;TZID=America/New_York:20260429T113000
DTSTAMP:20260423T140346
CREATED:20260306T165828Z
LAST-MODIFIED:20260306T165833Z
UID:18527-1777458600-1777462200@swantonlibrary.org
SUMMARY:Toddler Time Play Group
DESCRIPTION:Toddlers and their caregivers gather for an interactive social hour
URL:https://swantonlibrary.org/event/toddler-time-play-group-16/
CATEGORIES:Youth Programs
ATTACH;FMTTYPE=image/jpeg:https://swantonlibrary.org/wp-content/uploads/2025/06/Toddler-Story-Time-Play-Group-2.jpg
END:VEVENT
BEGIN:VEVENT
DTSTART;TZID=America/New_York:20260504T170000
DTEND;TZID=America/New_York:20260504T180000
DTSTAMP:20260423T140346
CREATED:20260410T144149Z
LAST-MODIFIED:20260410T144153Z
UID:18606-1777914000-1777917600@swantonlibrary.org
SUMMARY:Diamond Art Bookmarks
DESCRIPTION:Register here. Join Mel for a fun evening making diamond bookmarks! 13+. All supplies included.
URL:https://swantonlibrary.org/event/diamond-art-bookmarks/
CATEGORIES:Adult Programs,Teen Program
ATTACH;FMTTYPE=image/png:https://swantonlibrary.org/wp-content/uploads/2026/04/diamond-art-bookmarks.png
END:VEVENT
BEGIN:VEVENT
DTSTART;TZID=America/New_York:20260508T093000
DTEND;TZID=America/New_York:20260508T103000
DTSTAMP:20260423T140346
CREATED:20260228T175313Z
LAST-MODIFIED:20260228T175317Z
UID:18405-1778232600-1778236200@swantonlibrary.org
SUMMARY:Baby & Me Yoga
DESCRIPTION:Screenshot\n\n\n\n\n\n\n\nPostpartum-friendly parent and baby yoga class!
URL:https://swantonlibrary.org/event/baby-me-yoga-9/
CATEGORIES:Community Events
ATTACH;FMTTYPE=image/jpeg:https://swantonlibrary.org/wp-content/uploads/2026/02/IMG_2910.jpeg
END:VEVENT
BEGIN:VEVENT
DTSTART;TZID=America/New_York:20260522T093000
DTEND;TZID=America/New_York:20260522T103000
DTSTAMP:20260423T140346
CREATED:20260228T175424Z
LAST-MODIFIED:20260228T175428Z
UID:18407-1779442200-1779445800@swantonlibrary.org
SUMMARY:Baby & Me Yoga
DESCRIPTION:Screenshot\n\n\n\n\n\n\n\nPostpartum-friendly parent and baby yoga class!
URL:https://swantonlibrary.org/event/baby-me-yoga-10/
CATEGORIES:Community Events
ATTACH;FMTTYPE=image/jpeg:https://swantonlibrary.org/wp-content/uploads/2026/02/IMG_2910.jpeg
END:VEVENT
BEGIN:VEVENT
DTSTART;TZID=America/New_York:20260605T093000
DTEND;TZID=America/New_York:20260605T103000
DTSTAMP:20260423T140346
CREATED:20260228T175531Z
LAST-MODIFIED:20260228T175535Z
UID:18409-1780651800-1780655400@swantonlibrary.org
SUMMARY:Baby & Me Yoga
DESCRIPTION:Screenshot\n\n\n\n\n\n\n\nPostpartum-friendly parent and baby yoga class!
URL:https://swantonlibrary.org/event/baby-me-yoga-11/
CATEGORIES:Community Events
ATTACH;FMTTYPE=image/jpeg:https://swantonlibrary.org/wp-content/uploads/2026/02/IMG_2910.jpeg
END:VEVENT
BEGIN:VEVENT
DTSTART;TZID=America/New_York:20260619T093000
DTEND;TZID=America/New_York:20260619T103000
DTSTAMP:20260423T140346
CREATED:20260228T175642Z
LAST-MODIFIED:20260228T175646Z
UID:18411-1781861400-1781865000@swantonlibrary.org
SUMMARY:Baby & Me Yoga
DESCRIPTION:Screenshot\n\n\n\n\n\n\n\nPostpartum-friendly parent and baby yoga class!
URL:https://swantonlibrary.org/event/baby-me-yoga-12/
CATEGORIES:Community Events
ATTACH;FMTTYPE=image/jpeg:https://swantonlibrary.org/wp-content/uploads/2026/02/IMG_2910.jpeg
END:VEVENT
BEGIN:VEVENT
DTSTART;TZID=America/New_York:20260629T080000
DTEND;TZID=America/New_York:20260703T150000
DTSTAMP:20260423T140346
CREATED:20260120T173710Z
LAST-MODIFIED:20260120T173713Z
UID:18211-1782720000-1783090800@swantonlibrary.org
SUMMARY:Community Helper Camp
DESCRIPTION:Link to Register
URL:https://swantonlibrary.org/event/community-helper-camp/
CATEGORIES:Youth Programs
ATTACH;FMTTYPE=image/png:https://swantonlibrary.org/wp-content/uploads/2026/01/Community-Helper-Camp-2026.png
END:VEVENT
BEGIN:VEVENT
DTSTART;TZID=America/New_York:20260703T093000
DTEND;TZID=America/New_York:20260703T103000
DTSTAMP:20260423T140346
CREATED:20260228T175750Z
LAST-MODIFIED:20260228T175754Z
UID:18413-1783071000-1783074600@swantonlibrary.org
SUMMARY:Baby & Me Yoga
DESCRIPTION:Screenshot\n\n\n\n\n\n\n\nPostpartum-friendly parent and baby yoga class!
URL:https://swantonlibrary.org/event/baby-me-yoga-13/
CATEGORIES:Community Events
ATTACH;FMTTYPE=image/jpeg:https://swantonlibrary.org/wp-content/uploads/2026/02/IMG_2910.jpeg
END:VEVENT
BEGIN:VEVENT
DTSTART;TZID=America/New_York:20260717T093000
DTEND;TZID=America/New_York:20260717T103000
DTSTAMP:20260423T140346
CREATED:20260228T175856Z
LAST-MODIFIED:20260228T175900Z
UID:18415-1784280600-1784284200@swantonlibrary.org
SUMMARY:Baby & Me Yoga
DESCRIPTION:Screenshot\n\n\n\n\n\n\n\nPostpartum-friendly parent and baby yoga class!
URL:https://swantonlibrary.org/event/baby-me-yoga-14/
CATEGORIES:Community Events
ATTACH;FMTTYPE=image/jpeg:https://swantonlibrary.org/wp-content/uploads/2026/02/IMG_2910.jpeg
END:VEVENT
BEGIN:VEVENT
DTSTART;TZID=America/New_York:20260720T080000
DTEND;TZID=America/New_York:20260724T150000
DTSTAMP:20260423T140346
CREATED:20260120T175422Z
LAST-MODIFIED:20260120T175428Z
UID:18214-1784534400-1784905200@swantonlibrary.org
SUMMARY:Dino Discovery Camp
DESCRIPTION:Link to Register
URL:https://swantonlibrary.org/event/dino-discovery-camp/
CATEGORIES:Youth Programs
ATTACH;FMTTYPE=image/png:https://swantonlibrary.org/wp-content/uploads/2026/01/Dino-Discovery-Camp.png
END:VEVENT
BEGIN:VEVENT
DTSTART;TZID=America/New_York:20260731T093000
DTEND;TZID=America/New_York:20260731T103000
DTSTAMP:20260423T140346
CREATED:20260228T180030Z
LAST-MODIFIED:20260228T180034Z
UID:18417-1785490200-1785493800@swantonlibrary.org
SUMMARY:Baby & Me Yoga
DESCRIPTION:Screenshot\n\n\n\n\n\n\n\nPostpartum-friendly parent and baby yoga class!
URL:https://swantonlibrary.org/event/baby-me-yoga-15/
CATEGORIES:Community Events
ATTACH;FMTTYPE=image/jpeg:https://swantonlibrary.org/wp-content/uploads/2026/02/IMG_2910.jpeg
END:VEVENT
BEGIN:VEVENT
DTSTART;TZID=America/New_York:20260803T080000
DTEND;TZID=America/New_York:20260807T150000
DTSTAMP:20260423T140346
CREATED:20260120T172808Z
LAST-MODIFIED:20260120T172812Z
UID:18205-1785744000-1786114800@swantonlibrary.org
SUMMARY:Readers Theater Camp
DESCRIPTION:Link to Register
URL:https://swantonlibrary.org/event/readers-theater-camp-2/
CATEGORIES:Youth Programs
ATTACH;FMTTYPE=image/png:https://swantonlibrary.org/wp-content/uploads/2026/01/Readers-Theater-Camp-August-2026.png
END:VEVENT
BEGIN:VEVENT
DTSTART;TZID=America/New_York:20260814T093000
DTEND;TZID=America/New_York:20260814T103000
DTSTAMP:20260423T140346
CREATED:20260228T180139Z
LAST-MODIFIED:20260228T180142Z
UID:18419-1786699800-1786703400@swantonlibrary.org
SUMMARY:Baby & Me Yoga
DESCRIPTION:Screenshot\n\n\n\n\n\n\n\nPostpartum-friendly parent and baby yoga class!
URL:https://swantonlibrary.org/event/baby-me-yoga-16/
CATEGORIES:Community Events
ATTACH;FMTTYPE=image/jpeg:https://swantonlibrary.org/wp-content/uploads/2026/02/IMG_2910.jpeg
END:VEVENT
BEGIN:VEVENT
DTSTART;TZID=America/New_York:20260817T080000
DTEND;TZID=America/New_York:20260821T150000
DTSTAMP:20260423T140346
CREATED:20260120T173257Z
LAST-MODIFIED:20260120T173302Z
UID:18208-1786953600-1787324400@swantonlibrary.org
SUMMARY:Art Camp!
DESCRIPTION:Link to register
URL:https://swantonlibrary.org/event/art-camp/
CATEGORIES:Youth Programs
ATTACH;FMTTYPE=image/png:https://swantonlibrary.org/wp-content/uploads/2026/01/Art-Camp-2026.png
END:VEVENT
BEGIN:VEVENT
DTSTART;TZID=America/New_York:20260828T093000
DTEND;TZID=America/New_York:20260828T103000
DTSTAMP:20260423T140346
CREATED:20260228T180240Z
LAST-MODIFIED:20260228T180244Z
UID:18421-1787909400-1787913000@swantonlibrary.org
SUMMARY:Baby & Me Yoga
DESCRIPTION:Screenshot\n\n\n\n\n\n\n\nPostpartum-friendly parent and baby yoga class!
URL:https://swantonlibrary.org/event/baby-me-yoga-17/
CATEGORIES:Community Events
ATTACH;FMTTYPE=image/jpeg:https://swantonlibrary.org/wp-content/uploads/2026/02/IMG_2910.jpeg
END:VEVENT
END:VCALENDAR