BEGIN:VCALENDAR
VERSION:2.0
PRODID:-//SWANTON PUBLIC LIBRARY - ECPv6.15.11//NONSGML v1.0//EN
CALSCALE:GREGORIAN
METHOD:PUBLISH
X-WR-CALNAME:SWANTON PUBLIC LIBRARY
X-ORIGINAL-URL:https://swantonlibrary.org
X-WR-CALDESC:Events for SWANTON PUBLIC LIBRARY
REFRESH-INTERVAL;VALUE=DURATION:PT1H
X-Robots-Tag:noindex
X-PUBLISHED-TTL:PT1H
BEGIN:VTIMEZONE
TZID:America/New_York
BEGIN:DAYLIGHT
TZOFFSETFROM:-0500
TZOFFSETTO:-0400
TZNAME:EDT
DTSTART:20250309T070000
END:DAYLIGHT
BEGIN:STANDARD
TZOFFSETFROM:-0400
TZOFFSETTO:-0500
TZNAME:EST
DTSTART:20251102T060000
END:STANDARD
BEGIN:DAYLIGHT
TZOFFSETFROM:-0500
TZOFFSETTO:-0400
TZNAME:EDT
DTSTART:20260308T070000
END:DAYLIGHT
BEGIN:STANDARD
TZOFFSETFROM:-0400
TZOFFSETTO:-0500
TZNAME:EST
DTSTART:20261101T060000
END:STANDARD
BEGIN:DAYLIGHT
TZOFFSETFROM:-0500
TZOFFSETTO:-0400
TZNAME:EDT
DTSTART:20270314T070000
END:DAYLIGHT
BEGIN:STANDARD
TZOFFSETFROM:-0400
TZOFFSETTO:-0500
TZNAME:EST
DTSTART:20271107T060000
END:STANDARD
END:VTIMEZONE
BEGIN:VEVENT
DTSTART;TZID=America/New_York:20260427T110000
DTEND;TZID=America/New_York:20260427T120000
DTSTAMP:20260423T112514
CREATED:20260306T160524Z
LAST-MODIFIED:20260306T160527Z
UID:18485-1777287600-1777291200@swantonlibrary.org
SUMMARY:Bone Builders
DESCRIPTION:An exercise program designed to prevent and reverse the negative effects of osteoporosis
URL:https://swantonlibrary.org/event/bone-builders-24/
CATEGORIES:Adult Programs,Community Events
ATTACH;FMTTYPE=image/png:https://swantonlibrary.org/wp-content/uploads/2025/02/Bone-Builders-is-an-exercise-program-designed-to-prevent-and-even-reverse-the-negative-effects-of-osteoporosis.-2.png
END:VEVENT
BEGIN:VEVENT
DTSTART;TZID=America/New_York:20260427T130000
DTEND;TZID=America/New_York:20260427T150000
DTSTAMP:20260423T112514
CREATED:20260306T163054Z
LAST-MODIFIED:20260306T163057Z
UID:18509-1777294800-1777302000@swantonlibrary.org
SUMMARY:Knitting Circle
DESCRIPTION:Join Barb Sargent in all things knitting!
URL:https://swantonlibrary.org/event/knitting-circle-12/
CATEGORIES:Adult Programs
ATTACH;FMTTYPE=image/png:https://swantonlibrary.org/wp-content/uploads/2026/02/knitting-Circle-1-1.png
END:VEVENT
BEGIN:VEVENT
DTSTART;TZID=America/New_York:20260427T173000
DTEND;TZID=America/New_York:20260427T190000
DTSTAMP:20260423T112514
CREATED:20260306T153020Z
LAST-MODIFIED:20260306T153023Z
UID:18463-1777311000-1777316400@swantonlibrary.org
SUMMARY:Junk Journaling
DESCRIPTION:Create or add to a junk/art journal. All supplies provided and no prior knowledge required.
URL:https://swantonlibrary.org/event/junk-journaling-3/
CATEGORIES:Community Events
ATTACH;FMTTYPE=image/png:https://swantonlibrary.org/wp-content/uploads/2026/03/Art-Journaling-1-1.png
END:VEVENT
END:VCALENDAR