BEGIN:VCALENDAR
VERSION:2.0
PRODID:-//SWANTON PUBLIC LIBRARY - ECPv6.15.11//NONSGML v1.0//EN
CALSCALE:GREGORIAN
METHOD:PUBLISH
X-WR-CALNAME:SWANTON PUBLIC LIBRARY
X-ORIGINAL-URL:https://swantonlibrary.org
X-WR-CALDESC:Events for SWANTON PUBLIC LIBRARY
REFRESH-INTERVAL;VALUE=DURATION:PT1H
X-Robots-Tag:noindex
X-PUBLISHED-TTL:PT1H
BEGIN:VTIMEZONE
TZID:America/New_York
BEGIN:DAYLIGHT
TZOFFSETFROM:-0500
TZOFFSETTO:-0400
TZNAME:EDT
DTSTART:20250309T070000
END:DAYLIGHT
BEGIN:STANDARD
TZOFFSETFROM:-0400
TZOFFSETTO:-0500
TZNAME:EST
DTSTART:20251102T060000
END:STANDARD
BEGIN:DAYLIGHT
TZOFFSETFROM:-0500
TZOFFSETTO:-0400
TZNAME:EDT
DTSTART:20260308T070000
END:DAYLIGHT
BEGIN:STANDARD
TZOFFSETFROM:-0400
TZOFFSETTO:-0500
TZNAME:EST
DTSTART:20261101T060000
END:STANDARD
BEGIN:DAYLIGHT
TZOFFSETFROM:-0500
TZOFFSETTO:-0400
TZNAME:EDT
DTSTART:20270314T070000
END:DAYLIGHT
BEGIN:STANDARD
TZOFFSETFROM:-0400
TZOFFSETTO:-0500
TZNAME:EST
DTSTART:20271107T060000
END:STANDARD
END:VTIMEZONE
BEGIN:VEVENT
DTSTART;TZID=America/New_York:20260420T080000
DTEND;TZID=America/New_York:20260424T150000
DTSTAMP:20260423T111842
CREATED:20260120T180232Z
LAST-MODIFIED:20260120T180235Z
UID:18217-1776672000-1777042800@swantonlibrary.org
SUMMARY:MARVELOUS MAGICAL CREATURES CAMP
DESCRIPTION:Link to register
URL:https://swantonlibrary.org/event/marvelous-magical-creatures-camp/
ATTACH;FMTTYPE=image/png:https://swantonlibrary.org/wp-content/uploads/2026/01/MARVELOUS-MAGICAL-CREATURES-CAMP-2026.png
END:VEVENT
BEGIN:VEVENT
DTSTART;TZID=America/New_York:20260420T110000
DTEND;TZID=America/New_York:20260420T120000
DTSTAMP:20260423T111842
CREATED:20260306T160349Z
LAST-MODIFIED:20260306T160352Z
UID:18483-1776682800-1776686400@swantonlibrary.org
SUMMARY:Bone Builders
DESCRIPTION:An exercise program designed to prevent and reverse the negative effects of osteoporosis
URL:https://swantonlibrary.org/event/bone-builders-23/
CATEGORIES:Adult Programs,Community Events
ATTACH;FMTTYPE=image/png:https://swantonlibrary.org/wp-content/uploads/2025/02/Bone-Builders-is-an-exercise-program-designed-to-prevent-and-even-reverse-the-negative-effects-of-osteoporosis.-2.png
END:VEVENT
BEGIN:VEVENT
DTSTART;TZID=America/New_York:20260420T130000
DTEND;TZID=America/New_York:20260420T150000
DTSTAMP:20260423T111842
CREATED:20260306T162906Z
LAST-MODIFIED:20260306T162910Z
UID:18507-1776690000-1776697200@swantonlibrary.org
SUMMARY:Knitting Circle
DESCRIPTION:Join Barb Sargent in all things knitting!
URL:https://swantonlibrary.org/event/knitting-circle-11/
CATEGORIES:Adult Programs
ATTACH;FMTTYPE=image/png:https://swantonlibrary.org/wp-content/uploads/2026/02/knitting-Circle-1-1.png
END:VEVENT
BEGIN:VEVENT
DTSTART;TZID=America/New_York:20260420T170000
DTEND;TZID=America/New_York:20260420T180000
DTSTAMP:20260423T111842
CREATED:20260306T154137Z
LAST-MODIFIED:20260306T154140Z
UID:18470-1776704400-1776708000@swantonlibrary.org
SUMMARY:SPL Book Club
DESCRIPTION:This month’s book: The Blue Hour by Paula Hawkins. Email or call to reserve a book.
URL:https://swantonlibrary.org/event/spl-book-club-2/
CATEGORIES:Community Events
ATTACH;FMTTYPE=image/png:https://swantonlibrary.org/wp-content/uploads/2026/03/SPL-APR-2026-1.png
END:VEVENT
END:VCALENDAR