BEGIN:VCALENDAR
VERSION:2.0
PRODID:-//SWANTON PUBLIC LIBRARY - ECPv6.15.11//NONSGML v1.0//EN
CALSCALE:GREGORIAN
METHOD:PUBLISH
X-WR-CALNAME:SWANTON PUBLIC LIBRARY
X-ORIGINAL-URL:https://swantonlibrary.org
X-WR-CALDESC:Events for SWANTON PUBLIC LIBRARY
REFRESH-INTERVAL;VALUE=DURATION:PT1H
X-Robots-Tag:noindex
X-PUBLISHED-TTL:PT1H
BEGIN:VTIMEZONE
TZID:America/New_York
BEGIN:DAYLIGHT
TZOFFSETFROM:-0500
TZOFFSETTO:-0400
TZNAME:EDT
DTSTART:20250309T070000
END:DAYLIGHT
BEGIN:STANDARD
TZOFFSETFROM:-0400
TZOFFSETTO:-0500
TZNAME:EST
DTSTART:20251102T060000
END:STANDARD
BEGIN:DAYLIGHT
TZOFFSETFROM:-0500
TZOFFSETTO:-0400
TZNAME:EDT
DTSTART:20260308T070000
END:DAYLIGHT
BEGIN:STANDARD
TZOFFSETFROM:-0400
TZOFFSETTO:-0500
TZNAME:EST
DTSTART:20261101T060000
END:STANDARD
BEGIN:DAYLIGHT
TZOFFSETFROM:-0500
TZOFFSETTO:-0400
TZNAME:EDT
DTSTART:20270314T070000
END:DAYLIGHT
BEGIN:STANDARD
TZOFFSETFROM:-0400
TZOFFSETTO:-0500
TZNAME:EST
DTSTART:20271107T060000
END:STANDARD
END:VTIMEZONE
BEGIN:VEVENT
DTSTART;TZID=America/New_York:20260318T103000
DTEND;TZID=America/New_York:20260318T113000
DTSTAMP:20260423T123905
CREATED:20260209T190128Z
LAST-MODIFIED:20260209T190131Z
UID:18346-1773829800-1773833400@swantonlibrary.org
SUMMARY:Toddler Time Play Group
DESCRIPTION:Toddlers and Caretakers come to a toddler social hour!
URL:https://swantonlibrary.org/event/toddler-time-play-group-10/
CATEGORIES:Youth Programs
ATTACH;FMTTYPE=image/jpeg:https://swantonlibrary.org/wp-content/uploads/2025/06/Toddler-Story-Time-Play-Group-2.jpg
END:VEVENT
BEGIN:VEVENT
DTSTART;TZID=America/New_York:20260318T123000
DTEND;TZID=America/New_York:20260318T133000
DTSTAMP:20260423T123905
CREATED:20260304T153906Z
LAST-MODIFIED:20260304T153910Z
UID:18435-1773837000-1773840600@swantonlibrary.org
SUMMARY:Homeschool Group
DESCRIPTION:Homeschoolers can gather together for a STEAM activity and hang out with friends!
URL:https://swantonlibrary.org/event/homeschool-group-3/
CATEGORIES:Youth Programs
ATTACH;FMTTYPE=image/jpeg:https://swantonlibrary.org/wp-content/uploads/2026/03/March-HSG.jpg
END:VEVENT
END:VCALENDAR