BEGIN:VCALENDAR
VERSION:2.0
PRODID:-//SWANTON PUBLIC LIBRARY - ECPv6.15.11//NONSGML v1.0//EN
CALSCALE:GREGORIAN
METHOD:PUBLISH
X-ORIGINAL-URL:https://swantonlibrary.org
X-WR-CALDESC:Events for SWANTON PUBLIC LIBRARY
REFRESH-INTERVAL;VALUE=DURATION:PT1H
X-Robots-Tag:noindex
X-PUBLISHED-TTL:PT1H
BEGIN:VTIMEZONE
TZID:America/New_York
BEGIN:DAYLIGHT
TZOFFSETFROM:-0500
TZOFFSETTO:-0400
TZNAME:EDT
DTSTART:20250309T070000
END:DAYLIGHT
BEGIN:STANDARD
TZOFFSETFROM:-0400
TZOFFSETTO:-0500
TZNAME:EST
DTSTART:20251102T060000
END:STANDARD
BEGIN:DAYLIGHT
TZOFFSETFROM:-0500
TZOFFSETTO:-0400
TZNAME:EDT
DTSTART:20260308T070000
END:DAYLIGHT
BEGIN:STANDARD
TZOFFSETFROM:-0400
TZOFFSETTO:-0500
TZNAME:EST
DTSTART:20261101T060000
END:STANDARD
BEGIN:DAYLIGHT
TZOFFSETFROM:-0500
TZOFFSETTO:-0400
TZNAME:EDT
DTSTART:20270314T070000
END:DAYLIGHT
BEGIN:STANDARD
TZOFFSETFROM:-0400
TZOFFSETTO:-0500
TZNAME:EST
DTSTART:20271107T060000
END:STANDARD
END:VTIMEZONE
BEGIN:VEVENT
DTSTART;TZID=America/New_York:20260223T080000
DTEND;TZID=America/New_York:20260227T150000
DTSTAMP:20260423T123948
CREATED:20260120T171157Z
LAST-MODIFIED:20260121T154118Z
UID:18202-1771833600-1772204400@swantonlibrary.org
SUMMARY:Readers Theater Camp
DESCRIPTION:Link to register
URL:https://swantonlibrary.org/event/readers-theater-camp/
CATEGORIES:Youth Programs
ATTACH;FMTTYPE=image/jpeg:https://swantonlibrary.org/wp-content/uploads/2026/01/Readers-Theater-Camp-1.jpg
END:VEVENT
BEGIN:VEVENT
DTSTART;TZID=America/New_York:20260223T110000
DTEND;TZID=America/New_York:20260223T120000
DTSTAMP:20260423T123948
CREATED:20260209T172125Z
LAST-MODIFIED:20260209T172128Z
UID:18288-1771844400-1771848000@swantonlibrary.org
SUMMARY:Bone Builders
DESCRIPTION:Exercise Program designed to prevent the negative effects of osteoporosis
URL:https://swantonlibrary.org/event/bone-builders-12/
CATEGORIES:Adult Programs
ATTACH;FMTTYPE=image/png:https://swantonlibrary.org/wp-content/uploads/2025/02/Bone-Builders-is-an-exercise-program-designed-to-prevent-and-even-reverse-the-negative-effects-of-osteoporosis.-2.png
END:VEVENT
BEGIN:VEVENT
DTSTART;TZID=America/New_York:20260223T130000
DTEND;TZID=America/New_York:20260223T150000
DTSTAMP:20260423T123948
CREATED:20260211T212707Z
LAST-MODIFIED:20260211T212711Z
UID:18354-1771851600-1771858800@swantonlibrary.org
SUMMARY:Knitting Circle
DESCRIPTION:Join a group of knitters here at the library! Knit for charity or for yourself!
URL:https://swantonlibrary.org/event/knitting-circle-3/
CATEGORIES:Community Events
ATTACH;FMTTYPE=image/png:https://swantonlibrary.org/wp-content/uploads/2026/02/knitting-Circle-1-1.png
END:VEVENT
END:VCALENDAR