BEGIN:VCALENDAR
VERSION:2.0
PRODID:-//SWANTON PUBLIC LIBRARY - ECPv6.15.11//NONSGML v1.0//EN
CALSCALE:GREGORIAN
METHOD:PUBLISH
X-WR-CALNAME:SWANTON PUBLIC LIBRARY
X-ORIGINAL-URL:https://swantonlibrary.org
X-WR-CALDESC:Events for SWANTON PUBLIC LIBRARY
REFRESH-INTERVAL;VALUE=DURATION:PT1H
X-Robots-Tag:noindex
X-PUBLISHED-TTL:PT1H
BEGIN:VTIMEZONE
TZID:America/New_York
BEGIN:DAYLIGHT
TZOFFSETFROM:-0500
TZOFFSETTO:-0400
TZNAME:EDT
DTSTART:20250309T070000
END:DAYLIGHT
BEGIN:STANDARD
TZOFFSETFROM:-0400
TZOFFSETTO:-0500
TZNAME:EST
DTSTART:20251102T060000
END:STANDARD
BEGIN:DAYLIGHT
TZOFFSETFROM:-0500
TZOFFSETTO:-0400
TZNAME:EDT
DTSTART:20260308T070000
END:DAYLIGHT
BEGIN:STANDARD
TZOFFSETFROM:-0400
TZOFFSETTO:-0500
TZNAME:EST
DTSTART:20261101T060000
END:STANDARD
BEGIN:DAYLIGHT
TZOFFSETFROM:-0500
TZOFFSETTO:-0400
TZNAME:EDT
DTSTART:20270314T070000
END:DAYLIGHT
BEGIN:STANDARD
TZOFFSETFROM:-0400
TZOFFSETTO:-0500
TZNAME:EST
DTSTART:20271107T060000
END:STANDARD
END:VTIMEZONE
BEGIN:VEVENT
DTSTART;TZID=America/New_York:20260128T103000
DTEND;TZID=America/New_York:20260128T113000
DTSTAMP:20260423T134150
CREATED:20251217T165327Z
LAST-MODIFIED:20251217T165330Z
UID:18062-1769596200-1769599800@swantonlibrary.org
SUMMARY:Toddler Time Play Group
DESCRIPTION:For parents and toddlers aged 0-5 looking for a fun and inviting environment to get out and meet new friends.
URL:https://swantonlibrary.org/event/toddler-time-play-group-4/
CATEGORIES:Youth Programs
ATTACH;FMTTYPE=image/jpeg:https://swantonlibrary.org/wp-content/uploads/2025/06/Toddler-Story-Time-Play-Group-2.jpg
END:VEVENT
BEGIN:VEVENT
DTSTART;TZID=America/New_York:20260128T123000
DTEND;TZID=America/New_York:20260128T133000
DTSTAMP:20260423T134150
CREATED:20251231T160532Z
LAST-MODIFIED:20251231T160535Z
UID:18128-1769603400-1769607000@swantonlibrary.org
SUMMARY:Homeschool Group
DESCRIPTION:Homeschoolers come gather for a fun craft!
URL:https://swantonlibrary.org/event/homeschool-group-13/
CATEGORIES:Youth Programs
ATTACH;FMTTYPE=image/jpeg:https://swantonlibrary.org/wp-content/uploads/2025/12/Homeschool-Group-Activities-1-1.jpg
END:VEVENT
END:VCALENDAR