BEGIN:VCALENDAR
VERSION:2.0
PRODID:-//SWANTON PUBLIC LIBRARY - ECPv6.15.11//NONSGML v1.0//EN
CALSCALE:GREGORIAN
METHOD:PUBLISH
X-WR-CALNAME:SWANTON PUBLIC LIBRARY
X-ORIGINAL-URL:https://swantonlibrary.org
X-WR-CALDESC:Events for SWANTON PUBLIC LIBRARY
REFRESH-INTERVAL;VALUE=DURATION:PT1H
X-Robots-Tag:noindex
X-PUBLISHED-TTL:PT1H
BEGIN:VTIMEZONE
TZID:America/New_York
BEGIN:DAYLIGHT
TZOFFSETFROM:-0500
TZOFFSETTO:-0400
TZNAME:EDT
DTSTART:20250309T070000
END:DAYLIGHT
BEGIN:STANDARD
TZOFFSETFROM:-0400
TZOFFSETTO:-0500
TZNAME:EST
DTSTART:20251102T060000
END:STANDARD
BEGIN:DAYLIGHT
TZOFFSETFROM:-0500
TZOFFSETTO:-0400
TZNAME:EDT
DTSTART:20260308T070000
END:DAYLIGHT
BEGIN:STANDARD
TZOFFSETFROM:-0400
TZOFFSETTO:-0500
TZNAME:EST
DTSTART:20261101T060000
END:STANDARD
BEGIN:DAYLIGHT
TZOFFSETFROM:-0500
TZOFFSETTO:-0400
TZNAME:EDT
DTSTART:20270314T070000
END:DAYLIGHT
BEGIN:STANDARD
TZOFFSETFROM:-0400
TZOFFSETTO:-0500
TZNAME:EST
DTSTART:20271107T060000
END:STANDARD
END:VTIMEZONE
BEGIN:VEVENT
DTSTART;TZID=America/New_York:20260124T103000
DTEND;TZID=America/New_York:20260124T113000
DTSTAMP:20260423T144122
CREATED:20251217T170908Z
LAST-MODIFIED:20251217T170911Z
UID:18070-1769250600-1769254200@swantonlibrary.org
SUMMARY:Story Time
DESCRIPTION:Join us for weekly stories and a related craft!
URL:https://swantonlibrary.org/event/story-time-5/
CATEGORIES:Youth Programs
ATTACH;FMTTYPE=image/jpeg:https://swantonlibrary.org/wp-content/uploads/2025/02/sat-story-time.jpg
END:VEVENT
END:VCALENDAR